BEGIN:VCALENDAR
VERSION:2.0
PRODID:-//HTC - ECPv6.15.20//NONSGML v1.0//EN
CALSCALE:GREGORIAN
METHOD:PUBLISH
X-WR-CALNAME:HTC
X-ORIGINAL-URL:https://hochneukircher-tc.de
X-WR-CALDESC:Veranstaltungen für HTC
REFRESH-INTERVAL;VALUE=DURATION:PT1H
X-Robots-Tag:noindex
X-PUBLISHED-TTL:PT1H
BEGIN:VTIMEZONE
TZID:UTC
BEGIN:STANDARD
TZOFFSETFROM:+0000
TZOFFSETTO:+0000
TZNAME:UTC
DTSTART:20210101T000000
END:STANDARD
END:VTIMEZONE
BEGIN:VEVENT
DTSTART;TZID=UTC:20231104T100000
DTEND;TZID=UTC:20231104T150000
DTSTAMP:20260420T064807
CREATED:20230316T185107Z
LAST-MODIFIED:20230316T185107Z
UID:889-1699092000-1699110000@hochneukircher-tc.de
SUMMARY:Aufräumtag
DESCRIPTION:
URL:https://hochneukircher-tc.de/termine/aufraeumtag-2/
ATTACH;FMTTYPE=image/jpeg:https://hochneukircher-tc.de/wp-content/uploads/2022/04/broom-6310388_1280.jpg
END:VEVENT
BEGIN:VEVENT
DTSTART;TZID=UTC:20230808T180000
DTEND;TZID=UTC:20230826T190000
DTSTAMP:20260420T064807
CREATED:20220402T104457Z
LAST-MODIFIED:20230316T184923Z
UID:355-1691517600-1693076400@hochneukircher-tc.de
SUMMARY:Auslosung und Start der Clubmeisterschaften
DESCRIPTION:
URL:https://hochneukircher-tc.de/termine/auslosung-der-clubmeisterschaft/
ATTACH;FMTTYPE=image/jpeg:https://hochneukircher-tc.de/wp-content/uploads/2022/04/lottery-3846567_1280.jpg
END:VEVENT
BEGIN:VEVENT
DTSTART;TZID=UTC:20230804T100000
DTEND;TZID=UTC:20230806T180000
DTSTAMP:20260420T064807
CREATED:20220402T104301Z
LAST-MODIFIED:20230316T184710Z
UID:353-1691143200-1691344800@hochneukircher-tc.de
SUMMARY:Jakob Hombach Gedächtnisturnier
DESCRIPTION:
URL:https://hochneukircher-tc.de/termine/jakob-hombach-gedaechtnisturnier/
ATTACH;FMTTYPE=image/jpeg:https://hochneukircher-tc.de/wp-content/uploads/2022/04/DSC_0804-1024x683-1.jpg
END:VEVENT
BEGIN:VEVENT
DTSTART;TZID=UTC:20230731T000000
DTEND;TZID=UTC:20230806T235900
DTSTAMP:20260420T064807
CREATED:20230316T184003Z
LAST-MODIFIED:20230316T185211Z
UID:879-1690761600-1691366340@hochneukircher-tc.de
SUMMARY:1. HTC Kirfel Cup Jugendturnier U-16 Vorrunde
DESCRIPTION:
URL:https://hochneukircher-tc.de/termine/1-htc-rainer-kirfel-cup-jugendturnier-u-16-vorrunde/
ATTACH;FMTTYPE=image/jpeg:https://hochneukircher-tc.de/wp-content/uploads/2023/03/pexels-rodnae-productions-8224729.jpg
END:VEVENT
BEGIN:VEVENT
DTSTART;VALUE=DATE:20230608
DTEND;VALUE=DATE:20230609
DTSTAMP:20260420T064807
CREATED:20230316T183424Z
LAST-MODIFIED:20230316T183613Z
UID:874-1686182400-1686268799@hochneukircher-tc.de
SUMMARY:Bratpfannenturnier
DESCRIPTION:
URL:https://hochneukircher-tc.de/termine/bratpfannenturnier-2/
ATTACH;FMTTYPE=image/jpeg:https://hochneukircher-tc.de/wp-content/uploads/2023/03/pexels-leonardo-luz-14000472-2.jpg
END:VEVENT
BEGIN:VEVENT
DTSTART;TZID=UTC:20230507T143000
DTEND;TZID=UTC:20230507T193000
DTSTAMP:20260420T064807
CREATED:20230316T190648Z
LAST-MODIFIED:20230316T181129Z
UID:901-1683469800-1683487800@hochneukircher-tc.de
SUMMARY:HERREN 50 Casino Kempen 1 gegen Hochneukircher TC 1
DESCRIPTION:
URL:https://hochneukircher-tc.de/termine/herren-65-tc-csv-marathon-1-gegen-hochneukircher-tc-1/
LOCATION:HTC\, Peter-Busch-Straße 90\, Jüchen-Hochneukirch\, 41363
ATTACH;FMTTYPE=image/jpeg:https://hochneukircher-tc.de/wp-content/uploads/2022/04/01-Frauenpictogram-2430305_1920.jpg
END:VEVENT
BEGIN:VEVENT
DTSTART;TZID=UTC:20230507T090000
DTEND;TZID=UTC:20230507T140000
DTSTAMP:20260420T064807
CREATED:20230316T190515Z
LAST-MODIFIED:20230316T190515Z
UID:899-1683450000-1683468000@hochneukircher-tc.de
SUMMARY:DAMEN TC Hochneukircher TC 1 gegen TSV Meerbusch 1
DESCRIPTION:
URL:https://hochneukircher-tc.de/termine/damen-tc-hochneukircher-tc-1-gegen-tsv-meerbusch-1/
LOCATION:HTC\, Peter-Busch-Straße 90\, Jüchen-Hochneukirch\, 41363
ATTACH;FMTTYPE=image/png:https://hochneukircher-tc.de/wp-content/uploads/2022/04/02-maennerpictogram-3100829_1920.png
END:VEVENT
BEGIN:VEVENT
DTSTART;TZID=UTC:20230507T090000
DTEND;TZID=UTC:20230507T140000
DTSTAMP:20260420T064807
CREATED:20230316T190331Z
LAST-MODIFIED:20230316T190400Z
UID:897-1683450000-1683468000@hochneukircher-tc.de
SUMMARY:HERREN 30 TC Neuwerk gegen Hochneukircher TC 1
DESCRIPTION:
URL:https://hochneukircher-tc.de/termine/herren-30-tc-neuwerk-gegen-hochneukircher-tc-1/
LOCATION:HTC\, Peter-Busch-Straße 90\, Jüchen-Hochneukirch\, 41363
ATTACH;FMTTYPE=image/jpeg:https://hochneukircher-tc.de/wp-content/uploads/2022/04/01-Frauenpictogram-2430305_1920.jpg
END:VEVENT
BEGIN:VEVENT
DTSTART;TZID=UTC:20230506T140000
DTEND;TZID=UTC:20230506T190000
DTSTAMP:20260420T064807
CREATED:20230316T185551Z
LAST-MODIFIED:20230316T190105Z
UID:893-1683381600-1683399600@hochneukircher-tc.de
SUMMARY:DAMEN 30 TC Neuwerk 1 gegen Hochneukircher TC 2
DESCRIPTION:
URL:https://hochneukircher-tc.de/termine/damen-30-tc-neuwerk-1-gegen-hochneukircher-tc-2/
LOCATION:HTC\, Peter-Busch-Straße 90\, Jüchen-Hochneukirch\, 41363
ATTACH;FMTTYPE=image/png:https://hochneukircher-tc.de/wp-content/uploads/2022/04/02-maennerpictogram-3100829_1920.png
END:VEVENT
BEGIN:VEVENT
DTSTART;TZID=UTC:20230506T140000
DTEND;TZID=UTC:20230506T190000
DTSTAMP:20260420T064807
CREATED:20220403T143933Z
LAST-MODIFIED:20230316T185419Z
UID:539-1683381600-1683399600@hochneukircher-tc.de
SUMMARY:HERREN 40 Hochneukircher TC 1 gegen TG BW Meer 1
DESCRIPTION:
URL:https://hochneukircher-tc.de/termine/herren-40-hochneukircher-tc-1gegen-tc-giesenkirchen-1/
LOCATION:HTC\, Peter-Busch-Straße 90\, Jüchen-Hochneukirch\, 41363
ATTACH;FMTTYPE=image/jpeg:https://hochneukircher-tc.de/wp-content/uploads/2022/04/01-Frauenpictogram-2430305_1920.jpg
END:VEVENT
BEGIN:VEVENT
DTSTART;VALUE=DATE:20230422
DTEND;VALUE=DATE:20230423
DTSTAMP:20260420T064807
CREATED:20230316T183250Z
LAST-MODIFIED:20230316T184455Z
UID:869-1682121600-1682207999@hochneukircher-tc.de
SUMMARY:Mama aktiv
DESCRIPTION:
URL:https://hochneukircher-tc.de/termine/mama-aktiv/
ATTACH;FMTTYPE=image/jpeg:https://hochneukircher-tc.de/wp-content/uploads/2023/03/pexels-rulo-davila-10113291.jpg
END:VEVENT
BEGIN:VEVENT
DTSTART;VALUE=DATE:20230408
DTEND;VALUE=DATE:20230409
DTSTAMP:20260420T064807
CREATED:20220402T103050Z
LAST-MODIFIED:20230316T182102Z
UID:337-1680912000-1680998399@hochneukircher-tc.de
SUMMARY:Saisoneröffnung
DESCRIPTION:
URL:https://hochneukircher-tc.de/termine/saisoneroeffnung/
ATTACH;FMTTYPE=image/jpeg:https://hochneukircher-tc.de/wp-content/uploads/2022/04/tennis-3552164_1920.jpg
END:VEVENT
BEGIN:VEVENT
DTSTART;TZID=UTC:20230325T100000
DTEND;TZID=UTC:20230325T150000
DTSTAMP:20260420T064807
CREATED:20230315T090026Z
LAST-MODIFIED:20230316T183154Z
UID:867-1679738400-1679756400@hochneukircher-tc.de
SUMMARY:Aufräumtag
DESCRIPTION:
URL:https://hochneukircher-tc.de/termine/aufraeumtag/
ATTACH;FMTTYPE=image/jpeg:https://hochneukircher-tc.de/wp-content/uploads/2022/04/broom-6310388_1280.jpg
END:VEVENT
BEGIN:VEVENT
DTSTART;TZID=UTC:20230318T100000
DTEND;TZID=UTC:20230318T150000
DTSTAMP:20260420T064807
CREATED:20220402T104849Z
LAST-MODIFIED:20230316T182641Z
UID:363-1679133600-1679151600@hochneukircher-tc.de
SUMMARY:Aufräumtag
DESCRIPTION:
URL:https://hochneukircher-tc.de/termine/aufraeumt/
ATTACH;FMTTYPE=image/jpeg:https://hochneukircher-tc.de/wp-content/uploads/2022/04/broom-6310388_1280.jpg
END:VEVENT
BEGIN:VEVENT
DTSTART;TZID=UTC:20220910T200000
DTEND;TZID=UTC:20220911T050000
DTSTAMP:20260420T064807
CREATED:20220402T104727Z
LAST-MODIFIED:20220402T104727Z
UID:360-1662840000-1662872400@hochneukircher-tc.de
SUMMARY:Playersnight
DESCRIPTION:
URL:https://hochneukircher-tc.de/termine/playersnight/
ATTACH;FMTTYPE=image/jpeg:https://hochneukircher-tc.de/wp-content/uploads/2022/04/dj-937260_1280.jpg
END:VEVENT
BEGIN:VEVENT
DTSTART;TZID=UTC:20220821T090000
DTEND;TZID=UTC:20220821T140000
DTSTAMP:20260420T064807
CREATED:20220403T154424Z
LAST-MODIFIED:20220403T154424Z
UID:553-1661072400-1661090400@hochneukircher-tc.de
SUMMARY:HERREN 50 Hochneukircher TC 1	gegen TSV Ruhrfeld 1
DESCRIPTION:
URL:https://hochneukircher-tc.de/termine/herren-50-hochneukircher-tc-1gegen-tsv-ruhrfeld-1/
LOCATION:HTC\, Peter-Busch-Straße 90\, Jüchen-Hochneukirch\, 41363
ATTACH;FMTTYPE=image/jpeg:https://hochneukircher-tc.de/wp-content/uploads/2022/04/01-Frauenpictogram-2430305_1920.jpg
END:VEVENT
BEGIN:VEVENT
DTSTART;TZID=UTC:20220821T090000
DTEND;TZID=UTC:20220821T140000
DTSTAMP:20260420T064807
CREATED:20220403T125633Z
LAST-MODIFIED:20220403T141236Z
UID:500-1661072400-1661090400@hochneukircher-tc.de
SUMMARY:HERREN Rheydter TV SW 1 gegen Hochneukircher TC 1
DESCRIPTION:
URL:https://hochneukircher-tc.de/termine/damen-hochneukircher-tc-1-gegen-gladbacher-htc-3-2-3-3-3/
LOCATION:TV SW Rheydt\, Breite Str. 74a\, Mönchengladbach\, 41236\, Deutschland
ATTACH;FMTTYPE=image/jpeg:https://hochneukircher-tc.de/wp-content/uploads/2022/04/01-Frauenpictogram-2430305_1920.jpg
END:VEVENT
BEGIN:VEVENT
DTSTART;VALUE=DATE:20220815
DTEND;VALUE=DATE:20220911
DTSTAMP:20260420T064807
CREATED:20220402T104551Z
LAST-MODIFIED:20220402T104556Z
UID:358-1660521600-1662854399@hochneukircher-tc.de
SUMMARY:Clubmeisterschaft
DESCRIPTION:
URL:https://hochneukircher-tc.de/termine/clubmeisterschaft/
ATTACH;FMTTYPE=image/jpeg:https://hochneukircher-tc.de/wp-content/uploads/2022/04/network-1710825_1200.jpg
END:VEVENT
BEGIN:VEVENT
DTSTART;TZID=UTC:20220813T140000
DTEND;TZID=UTC:20220813T190000
DTSTAMP:20260420T064807
CREATED:20220403T154327Z
LAST-MODIFIED:20220403T160336Z
UID:551-1660399200-1660417200@hochneukircher-tc.de
SUMMARY:HERREN 50 Hochneukircher TC 1	gegen TC RW Süchteln 1
DESCRIPTION:
URL:https://hochneukircher-tc.de/termine/herren-50-hochneukircher-tc-1gegen-tc-rw-suechteln-1/
LOCATION:HTC\, Peter-Busch-Straße 90\, Jüchen-Hochneukirch\, 41363
ATTACH;FMTTYPE=image/jpeg:https://hochneukircher-tc.de/wp-content/uploads/2022/04/01-Frauenpictogram-2430305_1920.jpg
END:VEVENT
BEGIN:VEVENT
DTSTART;TZID=UTC:20220813T140000
DTEND;TZID=UTC:20220813T190000
DTSTAMP:20260420T064807
CREATED:20220403T143819Z
LAST-MODIFIED:20220403T143819Z
UID:536-1660399200-1660417200@hochneukircher-tc.de
SUMMARY:HERREN 40 RW Kempen 2 gegen Hochneukircher TC 1
DESCRIPTION:
URL:https://hochneukircher-tc.de/termine/herren-40-rw-kempen-2-gegen-hochneukircher-tc-1/
LOCATION:Kempen\, An Peschbenden 18\, Kempen\, 47906
ATTACH;FMTTYPE=image/jpeg:https://hochneukircher-tc.de/wp-content/uploads/2022/04/01-Frauenpictogram-2430305_1920.jpg
END:VEVENT
BEGIN:VEVENT
DTSTART;TZID=UTC:20220619T090000
DTEND;TZID=UTC:20220619T140000
DTSTAMP:20260420T064807
CREATED:20220403T154232Z
LAST-MODIFIED:20220403T154232Z
UID:548-1655629200-1655647200@hochneukircher-tc.de
SUMMARY:HERREN 50 Dülkener TC 2 gegen Hochneukircher TC 1
DESCRIPTION:
URL:https://hochneukircher-tc.de/termine/herren-50-duelkener-tc-2-gegen-hochneukircher-tc-1/
LOCATION:Dülken\, Birkenweg 16\, Viersen\, 41751
ATTACH;FMTTYPE=image/jpeg:https://hochneukircher-tc.de/wp-content/uploads/2022/04/01-Frauenpictogram-2430305_1920.jpg
END:VEVENT
BEGIN:VEVENT
DTSTART;TZID=UTC:20220619T090000
DTEND;TZID=UTC:20220619T140000
DTSTAMP:20260420T064807
CREATED:20220403T142728Z
LAST-MODIFIED:20220403T142728Z
UID:522-1655629200-1655647200@hochneukircher-tc.de
SUMMARY:HERREN 30/2  TC Giesenkirchen 1 gegen Hochneukircher TC 2
DESCRIPTION:
URL:https://hochneukircher-tc.de/termine/herren-30-2-tc-giesenkirchen-1-gegen-hochneukircher-tc-2/
LOCATION:Giesenkirchen\, Trimpelshütter Str. 34c\, Mönchengladbach\, 41238
ATTACH;FMTTYPE=image/jpeg:https://hochneukircher-tc.de/wp-content/uploads/2022/04/01-Frauenpictogram-2430305_1920.jpg
END:VEVENT
BEGIN:VEVENT
DTSTART;TZID=UTC:20220619T090000
DTEND;TZID=UTC:20220619T140000
DTSTAMP:20260420T064807
CREATED:20220403T142142Z
LAST-MODIFIED:20220403T142142Z
UID:513-1655629200-1655647200@hochneukircher-tc.de
SUMMARY:HERREN 30 Korschenbroicher TC 2 gegen Hochneukircher TC 1
DESCRIPTION:
URL:https://hochneukircher-tc.de/termine/herren-30-korschenbroicher-tc-2-gegen-hochneukircher-tc-1/
LOCATION:Korschenborich\, Donatusstr. 67\, Korschenbroich\, 41352\, Deutschland
ATTACH;FMTTYPE=image/jpeg:https://hochneukircher-tc.de/wp-content/uploads/2022/04/01-Frauenpictogram-2430305_1920.jpg
END:VEVENT
BEGIN:VEVENT
DTSTART;TZID=UTC:20220619T090000
DTEND;TZID=UTC:20220619T140000
DTSTAMP:20260420T064807
CREATED:20220403T125633Z
LAST-MODIFIED:20220403T140907Z
UID:496-1655629200-1655647200@hochneukircher-tc.de
SUMMARY:HERREN Hochneukircher TC 1 gegen TC Giesenkirchen 2
DESCRIPTION:
URL:https://hochneukircher-tc.de/termine/damen-hochneukircher-tc-1-gegen-gladbacher-htc-3-5-3-2-2/
LOCATION:HTC\, Peter-Busch-Straße 90\, Jüchen-Hochneukirch\, 41363
ATTACH;FMTTYPE=image/jpeg:https://hochneukircher-tc.de/wp-content/uploads/2022/04/01-Frauenpictogram-2430305_1920.jpg
END:VEVENT
BEGIN:VEVENT
DTSTART;TZID=UTC:20220618T140000
DTEND;TZID=UTC:20220618T190000
DTSTAMP:20260420T064807
CREATED:20220403T125633Z
LAST-MODIFIED:20220403T132300Z
UID:474-1655560800-1655578800@hochneukircher-tc.de
SUMMARY:DAMEN 30 Hochneukircher TC 1 gegen 	TC BW Neuss 1
DESCRIPTION:
URL:https://hochneukircher-tc.de/termine/damen-hochneukircher-tc-1-gegen-gladbacher-htc-3-5-2/
LOCATION:HTC\, Peter-Busch-Straße 90\, Jüchen-Hochneukirch\, 41363
ATTACH;FMTTYPE=image/png:https://hochneukircher-tc.de/wp-content/uploads/2022/04/02-maennerpictogram-3100829_1920.png
END:VEVENT
BEGIN:VEVENT
DTSTART;TZID=UTC:20220618T020000
DTEND;TZID=UTC:20220618T190000
DTSTAMP:20260420T064807
CREATED:20220403T143549Z
LAST-MODIFIED:20220403T143549Z
UID:533-1655517600-1655578800@hochneukircher-tc.de
SUMMARY:HERREN 40 BW Wickrath 1 gegen Hochneukircher TC 1
DESCRIPTION:
URL:https://hochneukircher-tc.de/termine/herren-40-bw-wickrath-1-gegen-hochneukircher-tc-1/
LOCATION:Wickrath\, Jahnstr. 1b\, Mönchengladbach\, 41189
ATTACH;FMTTYPE=image/jpeg:https://hochneukircher-tc.de/wp-content/uploads/2022/04/01-Frauenpictogram-2430305_1920.jpg
END:VEVENT
BEGIN:VEVENT
DTSTART;VALUE=DATE:20220616
DTEND;VALUE=DATE:20220617
DTSTAMP:20260420T064807
CREATED:20220402T104206Z
LAST-MODIFIED:20220402T104206Z
UID:350-1655337600-1655423999@hochneukircher-tc.de
SUMMARY:Bratpfannenturnier
DESCRIPTION:
URL:https://hochneukircher-tc.de/termine/bratpfannenturnier/
ATTACH;FMTTYPE=image/jpeg:https://hochneukircher-tc.de/wp-content/uploads/2022/04/royal-fan-1195362_1280.jpg
END:VEVENT
BEGIN:VEVENT
DTSTART;TZID=UTC:20220614T100000
DTEND;TZID=UTC:20220614T150000
DTSTAMP:20260420T064807
CREATED:20220403T160245Z
LAST-MODIFIED:20220403T160245Z
UID:566-1655200800-1655218800@hochneukircher-tc.de
SUMMARY:HERREN 65 Hochneukircher TC 1	gegen TSV Ruhrfeld 2
DESCRIPTION:
URL:https://hochneukircher-tc.de/termine/herren-65-hochneukircher-tc-1gegen-tsv-ruhrfeld-2/
LOCATION:HTC\, Peter-Busch-Straße 90\, Jüchen-Hochneukirch\, 41363
ATTACH;FMTTYPE=image/jpeg:https://hochneukircher-tc.de/wp-content/uploads/2022/04/01-Frauenpictogram-2430305_1920.jpg
END:VEVENT
BEGIN:VEVENT
DTSTART;TZID=UTC:20220612T143000
DTEND;TZID=UTC:20220612T193000
DTSTAMP:20260420T064807
CREATED:20220403T125633Z
LAST-MODIFIED:20220403T132134Z
UID:471-1655044200-1655062200@hochneukircher-tc.de
SUMMARY:DAMEN 30 Hochneukircher TC 1 gegen TC Neuwerk e.V. 1
DESCRIPTION:
URL:https://hochneukircher-tc.de/termine/damen-hochneukircher-tc-1-gegen-gladbacher-htc-3-5/
LOCATION:HTC\, Peter-Busch-Straße 90\, Jüchen-Hochneukirch\, 41363
ATTACH;FMTTYPE=image/png:https://hochneukircher-tc.de/wp-content/uploads/2022/04/02-maennerpictogram-3100829_1920.png
END:VEVENT
BEGIN:VEVENT
DTSTART;TZID=UTC:20220612T090000
DTEND;TZID=UTC:20220612T140000
DTSTAMP:20260420T064807
CREATED:20220403T141933Z
LAST-MODIFIED:20220403T141933Z
UID:510-1655024400-1655042400@hochneukircher-tc.de
SUMMARY:HERREN 30	DJK Kleinenbroich 1 gegen Hochneukircher TC 1
DESCRIPTION:
URL:https://hochneukircher-tc.de/termine/herren-30djk-kleinenbroich-1-gegen-hochneukircher-tc-1/
LOCATION:Kleinenbroich\, Rhedung 35b\, Korschenbroich\, 41352
ATTACH;FMTTYPE=image/jpeg:https://hochneukircher-tc.de/wp-content/uploads/2022/04/01-Frauenpictogram-2430305_1920.jpg
END:VEVENT
END:VCALENDAR